BEGIN:VCALENDAR
VERSION:2.0
PRODID:-//Minnesota Blue Flame Gas Association - ECPv6.13.2.1//NONSGML v1.0//EN
CALSCALE:GREGORIAN
METHOD:PUBLISH
X-WR-CALNAME:Minnesota Blue Flame Gas Association
X-ORIGINAL-URL:https://blueflame.org
X-WR-CALDESC:Events for Minnesota Blue Flame Gas Association
REFRESH-INTERVAL;VALUE=DURATION:PT1H
X-Robots-Tag:noindex
X-PUBLISHED-TTL:PT1H
BEGIN:VTIMEZONE
TZID:America/Chicago
BEGIN:DAYLIGHT
TZOFFSETFROM:-0600
TZOFFSETTO:-0500
TZNAME:CDT
DTSTART:20150308T080000
END:DAYLIGHT
BEGIN:STANDARD
TZOFFSETFROM:-0500
TZOFFSETTO:-0600
TZNAME:CST
DTSTART:20151101T070000
END:STANDARD
BEGIN:DAYLIGHT
TZOFFSETFROM:-0600
TZOFFSETTO:-0500
TZNAME:CDT
DTSTART:20160313T080000
END:DAYLIGHT
BEGIN:STANDARD
TZOFFSETFROM:-0500
TZOFFSETTO:-0600
TZNAME:CST
DTSTART:20161106T070000
END:STANDARD
BEGIN:DAYLIGHT
TZOFFSETFROM:-0600
TZOFFSETTO:-0500
TZNAME:CDT
DTSTART:20170312T080000
END:DAYLIGHT
BEGIN:STANDARD
TZOFFSETFROM:-0500
TZOFFSETTO:-0600
TZNAME:CST
DTSTART:20171105T070000
END:STANDARD
BEGIN:DAYLIGHT
TZOFFSETFROM:-0600
TZOFFSETTO:-0500
TZNAME:CDT
DTSTART:20180311T080000
END:DAYLIGHT
BEGIN:STANDARD
TZOFFSETFROM:-0500
TZOFFSETTO:-0600
TZNAME:CST
DTSTART:20181104T070000
END:STANDARD
BEGIN:DAYLIGHT
TZOFFSETFROM:-0600
TZOFFSETTO:-0500
TZNAME:CDT
DTSTART:20190310T080000
END:DAYLIGHT
BEGIN:STANDARD
TZOFFSETFROM:-0500
TZOFFSETTO:-0600
TZNAME:CST
DTSTART:20191103T070000
END:STANDARD
BEGIN:DAYLIGHT
TZOFFSETFROM:-0600
TZOFFSETTO:-0500
TZNAME:CDT
DTSTART:20200308T080000
END:DAYLIGHT
BEGIN:STANDARD
TZOFFSETFROM:-0500
TZOFFSETTO:-0600
TZNAME:CST
DTSTART:20201101T070000
END:STANDARD
BEGIN:DAYLIGHT
TZOFFSETFROM:-0600
TZOFFSETTO:-0500
TZNAME:CDT
DTSTART:20210314T080000
END:DAYLIGHT
BEGIN:STANDARD
TZOFFSETFROM:-0500
TZOFFSETTO:-0600
TZNAME:CST
DTSTART:20211107T070000
END:STANDARD
END:VTIMEZONE
BEGIN:VEVENT
DTSTART;VALUE=DATE:20210610
DTEND;VALUE=DATE:20210611
DTSTAMP:20260423T174205
CREATED:20190310T211819Z
LAST-MODIFIED:20210319T154610Z
UID:1812-1623283200-1623369599@blueflame.org
SUMMARY:2021 Golf Networking Event
DESCRIPTION:Registration is Open!  Click here to register\nSponsorship Opportunities Now Available! Click here for more information\n\n  \nPictures from past events!
URL:https://blueflame.org/view-event/2019-golf-networking-event-2-2/
ORGANIZER;CN="Blue Flame":MAILTO:ahenkel@blueflame.org
END:VEVENT
BEGIN:VEVENT
DTSTART;VALUE=DATE:20200924
DTEND;VALUE=DATE:20200925
DTSTAMP:20260423T174205
CREATED:20180724T211543Z
LAST-MODIFIED:20200810T142917Z
UID:1627-1600905600-1600991999@blueflame.org
SUMMARY:2020 Fishing Networking Event
DESCRIPTION:September 24\, 2020\n  \nRegister Open – Click Here\n\nPhotos from previous events!
URL:https://blueflame.org/view-event/2019-fishing-networking-event-2/
LOCATION:Mille Lacs Lake
ORGANIZER;CN="Blue Flame":MAILTO:ahenkel@blueflame.org
END:VEVENT
BEGIN:VEVENT
DTSTART;VALUE=DATE:20200915
DTEND;VALUE=DATE:20200916
DTSTAMP:20260423T174205
CREATED:20190310T211819Z
LAST-MODIFIED:20200810T143148Z
UID:1623-1600128000-1600214399@blueflame.org
SUMMARY:2020 Golf Networking Event
DESCRIPTION:September 15\, 2020\nRegistration Open! Now is a good time to think of sun\, fun and getting together with friends and colleagues…… \n\nCLICK HERE to register for the September 15th Blue Flame Golf Event.\n\nIf that link doesn’t work\, CLICK HERE.\n\nNEW THIS YEAR: Lunch is included in your Registration Fee.\nSponsorship Opportunities Now Available!\n                                                                                                             	                                                                                                          21 Golf Sponsorships                                                                                                                                                                                                                                            Author: Lana LeonardOrientation: 1                                                                                                                                                                                                                                                       \n  \nPictures from last years event!
URL:https://blueflame.org/view-event/2019-golf-networking-event-2/
ORGANIZER;CN="Blue Flame":MAILTO:ahenkel@blueflame.org
END:VEVENT
BEGIN:VEVENT
DTSTART;VALUE=DATE:20190917
DTEND;VALUE=DATE:20190918
DTSTAMP:20260423T174205
CREATED:20171018T150207Z
LAST-MODIFIED:20190806T180743Z
UID:1515-1568678400-1568764799@blueflame.org
SUMMARY:REGISTER HERE! Industrial/Commercial Fall Conservation Conference
DESCRIPTION:Click Here to Register!
URL:https://blueflame.org/view-event/2018-industrialcommercial-fall-conservation-conference/
LOCATION:Surly Brewing Company\, 520 Malcolm Ave SE\, Minneapolis\, MN\, 55414\, United States
ORGANIZER;CN="Blue Flame":MAILTO:ahenkel@blueflame.org
END:VEVENT
BEGIN:VEVENT
DTSTART;VALUE=DATE:20190613
DTEND;VALUE=DATE:20190614
DTSTAMP:20260423T174205
CREATED:20190310T211819Z
LAST-MODIFIED:20190320T174038Z
UID:1555-1560384000-1560470399@blueflame.org
SUMMARY:2019 Golf Networking Event
DESCRIPTION:2019 REGISTRATION IS OPEN!  Register Here\nPictures from last years event!
URL:https://blueflame.org/view-event/2019-golf-networking-event/
ORGANIZER;CN="Blue Flame":MAILTO:ahenkel@blueflame.org
END:VEVENT
BEGIN:VEVENT
DTSTART;VALUE=DATE:20190604
DTEND;VALUE=DATE:20190605
DTSTAMP:20260423T174205
CREATED:20180724T211543Z
LAST-MODIFIED:20190311T161501Z
UID:1553-1559606400-1559692799@blueflame.org
SUMMARY:2019 Fishing Networking Event
DESCRIPTION:2019 REGISTRATION IS OPEN!  Register Here\n\n  \nPhotos from last years event.
URL:https://blueflame.org/view-event/2019-fishing-networking-event/
LOCATION:Mille Lacs Lake
ORGANIZER;CN="Blue Flame":MAILTO:ahenkel@blueflame.org
END:VEVENT
BEGIN:VEVENT
DTSTART;VALUE=DATE:20180614
DTEND;VALUE=DATE:20180615
DTSTAMP:20260423T174205
CREATED:20171018T145910Z
LAST-MODIFIED:20180724T211946Z
UID:1510-1528934400-1529020799@blueflame.org
SUMMARY:2018 Golf Networking Event
DESCRIPTION:Pictures from this years event!
URL:https://blueflame.org/view-event/2018-golf-networking-event/
ORGANIZER;CN="Blue Flame":MAILTO:ahenkel@blueflame.org
END:VEVENT
BEGIN:VEVENT
DTSTART;VALUE=DATE:20180605
DTEND;VALUE=DATE:20180606
DTSTAMP:20260423T174205
CREATED:20171018T145300Z
LAST-MODIFIED:20180629T150159Z
UID:1506-1528156800-1528243199@blueflame.org
SUMMARY:2018 Fishing Networking Event
DESCRIPTION:The 2018 Fishing Event has concluded! Here’s some photos from the Event.
URL:https://blueflame.org/view-event/1506/
ORGANIZER;CN="Blue Flame":MAILTO:ahenkel@blueflame.org
END:VEVENT
BEGIN:VEVENT
DTSTART;TZID=America/Chicago:20170919T080000
DTEND;TZID=America/Chicago:20170919T133000
DTSTAMP:20260423T174205
CREATED:20160927T203931Z
LAST-MODIFIED:20170804T131050Z
UID:1410-1505808000-1505827800@blueflame.org
SUMMARY:Fall 2017 Commercial / Industrial Conservation Conference
DESCRIPTION:For more details and registration information check out the 2017 Fall Natural Gas Conservation Conference Invitation
URL:https://blueflame.org/view-event/fall-2017-commercial-industrial-conservation-conference/
END:VEVENT
BEGIN:VEVENT
DTSTART;TZID=America/Chicago:20170824T090000
DTEND;TZID=America/Chicago:20170904T210000
DTSTAMP:20260423T174205
CREATED:20161102T143335Z
LAST-MODIFIED:20161102T143335Z
UID:1428-1503565200-1504558800@blueflame.org
SUMMARY:Minnesota State Fair Blue Flame Lodge
DESCRIPTION:
URL:https://blueflame.org/view-event/minnesota-state-fair-blue-flame-lodge/
LOCATION:Minnesota State Fair Grounds\, 1265 North Snelling Ave. N.\, St. Paul\, MN\, 55108-3099\, United States
ORGANIZER;CN="Blue Flame":MAILTO:ahenkel@blueflame.org
END:VEVENT
BEGIN:VEVENT
DTSTART;VALUE=DATE:20170615
DTEND;VALUE=DATE:20170616
DTSTAMP:20260423T174205
CREATED:20161109T163938Z
LAST-MODIFIED:20161109T164057Z
UID:1432-1497484800-1497571199@blueflame.org
SUMMARY:2017 Blueflame Golfing/Networking Event
DESCRIPTION:
URL:https://blueflame.org/view-event/2017-blueflame-golfingnetworking-event/
ORGANIZER;CN="Blue Flame":MAILTO:ahenkel@blueflame.org
END:VEVENT
BEGIN:VEVENT
DTSTART;VALUE=DATE:20170606
DTEND;VALUE=DATE:20170607
DTSTAMP:20260423T174205
CREATED:20161109T163850Z
LAST-MODIFIED:20161109T164026Z
UID:1431-1496707200-1496793599@blueflame.org
SUMMARY:2017 Blueflame Fishing/Networking Event
DESCRIPTION:
URL:https://blueflame.org/view-event/2017-blueflame-fishingnetworking-event/
LOCATION:Mille Lacs Lake
ORGANIZER;CN="Blue Flame":MAILTO:ahenkel@blueflame.org
END:VEVENT
BEGIN:VEVENT
DTSTART;VALUE=DATE:20160920
DTEND;VALUE=DATE:20160921
DTSTAMP:20260423T174205
CREATED:20151021T204441Z
LAST-MODIFIED:20160817T144254Z
UID:1373-1474329600-1474415999@blueflame.org
SUMMARY:2016 Commercial/Industrial Fall Conservation Conference
DESCRIPTION:For more details and registration information check out the 2016 Fall Natural Gas Conservation Conference Invitation
URL:https://blueflame.org/view-event/2016-commercialindustrial-fall-conservation-conference/
LOCATION:Hillcrest Golf Club\, 2200 Larpenteur Ave E\, St. Paul\, MN\, 55109\, United States
ORGANIZER;CN="Blue Flame":MAILTO:ahenkel@blueflame.org
END:VEVENT
BEGIN:VEVENT
DTSTART;TZID=America/Chicago:20160825T090000
DTEND;TZID=America/Chicago:20160905T210000
DTSTAMP:20260423T174205
CREATED:20150925T185348Z
LAST-MODIFIED:20160818T152915Z
UID:1361-1472115600-1473109200@blueflame.org
SUMMARY:Minnesota State Fair Blue Flame Lodge
DESCRIPTION:
URL:https://blueflame.org/view-event/minnesota-state-fair-blue-flame-lodge-2016/
LOCATION:Minnesota State Fair Grounds\, 1265 North Snelling Ave. N.\, St. Paul\, MN\, 55108-3099\, United States
ORGANIZER;CN="Blue Flame":MAILTO:ahenkel@blueflame.org
END:VEVENT
BEGIN:VEVENT
DTSTART;VALUE=DATE:20160616
DTEND;VALUE=DATE:20160617
DTSTAMP:20260423T174205
CREATED:20151021T204254Z
LAST-MODIFIED:20160701T145014Z
UID:1372-1466035200-1466121599@blueflame.org
SUMMARY:2016 Blue Flame Golf/Networking Event
DESCRIPTION:The 2016 Golf/Networking Event has concluded! Here’s some photos from the Event.
URL:https://blueflame.org/view-event/2016-blue-flame-golfnetworking-event/
ORGANIZER;CN="Blue Flame":MAILTO:ahenkel@blueflame.org
END:VEVENT
BEGIN:VEVENT
DTSTART;VALUE=DATE:20160607
DTEND;VALUE=DATE:20160608
DTSTAMP:20260423T174205
CREATED:20151021T204023Z
LAST-MODIFIED:20160701T143708Z
UID:1371-1465257600-1465343999@blueflame.org
SUMMARY:2016 Blue Flame Fishing/Networking Event
DESCRIPTION:The 2016 Fishing Event has concluded! Here’s some photos from the Event.
URL:https://blueflame.org/view-event/2016-blue-flame-fishingnetworking-event/
ORGANIZER;CN="Blue Flame":MAILTO:ahenkel@blueflame.org
END:VEVENT
BEGIN:VEVENT
DTSTART;VALUE=DATE:20150922
DTEND;VALUE=DATE:20150923
DTSTAMP:20260423T174205
CREATED:20150310T184802Z
LAST-MODIFIED:20150930T202631Z
UID:717-1442880000-1442966399@blueflame.org
SUMMARY:Industrial / Commercial Fall Conservation Conference
DESCRIPTION:Pictures from the 2015 Industrial / Commercial Fall Conservation Conference.
URL:https://blueflame.org/view-event/commercialindustrial-fall-conservation-conference/
LOCATION:Hillcrest Golf Club\, 2200 Larpenteur Ave E\, St. Paul\, MN\, 55109\, United States
ORGANIZER;CN="Blue Flame":MAILTO:ahenkel@blueflame.org
END:VEVENT
BEGIN:VEVENT
DTSTART;TZID=America/Chicago:20150827T090000
DTEND;TZID=America/Chicago:20150907T210000
DTSTAMP:20260423T174205
CREATED:20150310T184551Z
LAST-MODIFIED:20150930T212124Z
UID:715-1440666000-1441659600@blueflame.org
SUMMARY:Minnesota State Fair Blue Flame Lodge
DESCRIPTION:The 2015 Minnesota State Fair has concluded! Here’s some photos from the Blue Flame Lodge.
URL:https://blueflame.org/view-event/minnesota-state-fair/
LOCATION:Minnesota State Fair Grounds\, 1265 North Snelling Ave. N.\, St. Paul\, MN\, 55108-3099\, United States
ORGANIZER;CN="Blue Flame":MAILTO:ahenkel@blueflame.org
END:VEVENT
BEGIN:VEVENT
DTSTART;TZID=America/Chicago:20150618T123000
DTEND;TZID=America/Chicago:20150618T183000
DTSTAMP:20260423T174205
CREATED:20150310T183931Z
LAST-MODIFIED:20150526T143226Z
UID:713-1434630600-1434652200@blueflame.org
SUMMARY:Blue Flame Golf/Networking Event
DESCRIPTION:Tee off at 12:30 p.m. and ends approx 6:30 p.m. Arrive early if you need to register or rent equipment.
URL:https://blueflame.org/view-event/blue-flame-golfnetworking/
ATTACH;FMTTYPE=image/jpeg:https://blueflame.org/wp-content/uploads/2015/03/golf1-scaled.jpg
ORGANIZER;CN="Blue Flame":MAILTO:ahenkel@blueflame.org
END:VEVENT
BEGIN:VEVENT
DTSTART;VALUE=DATE:20150602
DTEND;VALUE=DATE:20150603
DTSTAMP:20260423T174205
CREATED:20150310T183556Z
LAST-MODIFIED:20150615T214211Z
UID:711-1433203200-1433289599@blueflame.org
SUMMARY:Blue Flame Fishing/Networking Event
DESCRIPTION:
URL:https://blueflame.org/view-event/blue-flame-fishingnetworking-event/
LOCATION:Mille Lacs Lake
ATTACH;FMTTYPE=image/jpeg:https://blueflame.org/wp-content/uploads/2015/01/blueflamefish-copy.jpg
ORGANIZER;CN="Blue Flame":MAILTO:ahenkel@blueflame.org
END:VEVENT
END:VCALENDAR