BEGIN:VCALENDAR
VERSION:2.0
PRODID:-//Minnesota Blue Flame Gas Association - ECPv6.13.2.1//NONSGML v1.0//EN
CALSCALE:GREGORIAN
METHOD:PUBLISH
X-WR-CALNAME:Minnesota Blue Flame Gas Association
X-ORIGINAL-URL:https://blueflame.org
X-WR-CALDESC:Events for Minnesota Blue Flame Gas Association
REFRESH-INTERVAL;VALUE=DURATION:PT1H
X-Robots-Tag:noindex
X-PUBLISHED-TTL:PT1H
BEGIN:VTIMEZONE
TZID:America/Chicago
BEGIN:DAYLIGHT
TZOFFSETFROM:-0600
TZOFFSETTO:-0500
TZNAME:CDT
DTSTART:20260308T080000
END:DAYLIGHT
BEGIN:STANDARD
TZOFFSETFROM:-0500
TZOFFSETTO:-0600
TZNAME:CST
DTSTART:20261101T070000
END:STANDARD
END:VTIMEZONE
BEGIN:VEVENT
DTSTART;VALUE=DATE:20260827
DTEND;VALUE=DATE:20260908
DTSTAMP:20260423T160838
CREATED:20171018T150117Z
LAST-MODIFIED:20260130T192453Z
UID:2148-1787788800-1788825599@blueflame.org
SUMMARY:Blue Flame Lodge Minnesota State Fair 2026
DESCRIPTION:Come see the Blue Flame Lodge at the Minnesota State Fair!\nAugust 27- September 7\, 2026 \nExhibitor Space Available: More Info Here \nVolunteer Sign Up: Click Here \nWatch the State Fair Video Here!
URL:https://blueflame.org/view-event/blue-flame-lodge-minnesota-state-fair-2-2-2/
LOCATION:Minnesota State Fair Grounds\, 1265 North Snelling Ave. N.\, St. Paul\, MN\, 55108-3099\, United States
ORGANIZER;CN="Blue Flame":MAILTO:ahenkel@blueflame.org
END:VEVENT
BEGIN:VEVENT
DTSTART;VALUE=DATE:20260910
DTEND;VALUE=DATE:20260911
DTSTAMP:20260423T160838
CREATED:20220223T174543Z
LAST-MODIFIED:20260130T194956Z
UID:2139-1788998400-1789084799@blueflame.org
SUMMARY:2026 Fishing Networking Event
DESCRIPTION:Save the Date!\nSeptember 10\, 2026\nNitti’s Hunter’s Point Resort on Mille Lacs Lake\n5436 – 479th Street\nIsle\, MN 56342   \n\nPhotos from previous events!
URL:https://blueflame.org/view-event/2025-fishing-networking-event-2-2/
LOCATION:Mille Lacs Lake
ORGANIZER;CN="Blue Flame":MAILTO:ahenkel@blueflame.org
END:VEVENT
BEGIN:VEVENT
DTSTART;TZID=America/Chicago:20261110T113000
DTEND;TZID=America/Chicago:20261110T163000
DTSTAMP:20260423T160838
CREATED:20220223T180607Z
LAST-MODIFIED:20260406T155100Z
UID:2146-1794310200-1794328200@blueflame.org
SUMMARY:2026 Industrial/Commercial Conference
DESCRIPTION:Save the Date!\n\n2026 Industrial/Commercial Conference\nTuesday\, November 10\, 2026\n11:30 a.m. – 4:30 p.m.\nSurly Brewing Company\, Minneapolis\n \nNatural Gas Utilities of Today are Very Different than the Ones of Yesterday \nJoin your colleagues for a collaborative lunch and an engaging afternoon dedicated to exploring the future of the natural gas utility business. This event promises to be a rich tapestry of insights\, featuring representatives from local Minnesota utilities\, esteemed national industry speakers\, and suppliers who are at the forefront of innovation. Attendees will have the unique opportunity to delve into legislative predictions and the evolving landscape of our industry\, fostering a deeper understanding of upcoming trends that may shape our future. \nThis gathering is not just an event—it’s a vital occasion for networking and knowledge-sharing among professionals.
URL:https://blueflame.org/view-event/2022-industrial-commercial-fall-conservation-conference-2-2/
LOCATION:Surly Brewing Company\, 520 Malcolm Ave SE\, Minneapolis\, MN\, 55414\, United States
ORGANIZER;CN="Blue Flame":MAILTO:ahenkel@blueflame.org
END:VEVENT
END:VCALENDAR