BEGIN:VCALENDAR
VERSION:2.0
PRODID:-//Minnesota Blue Flame Gas Association - ECPv6.13.2.1//NONSGML v1.0//EN
CALSCALE:GREGORIAN
METHOD:PUBLISH
X-WR-CALNAME:Minnesota Blue Flame Gas Association
X-ORIGINAL-URL:https://blueflame.org
X-WR-CALDESC:Events for Minnesota Blue Flame Gas Association
REFRESH-INTERVAL;VALUE=DURATION:PT1H
X-Robots-Tag:noindex
X-PUBLISHED-TTL:PT1H
BEGIN:VTIMEZONE
TZID:America/Chicago
BEGIN:DAYLIGHT
TZOFFSETFROM:-0600
TZOFFSETTO:-0500
TZNAME:CDT
DTSTART:20260308T080000
END:DAYLIGHT
BEGIN:STANDARD
TZOFFSETFROM:-0500
TZOFFSETTO:-0600
TZNAME:CST
DTSTART:20261101T070000
END:STANDARD
END:VTIMEZONE
BEGIN:VEVENT
DTSTART;VALUE=DATE:20260827
DTEND;VALUE=DATE:20260908
DTSTAMP:20260423T160513
CREATED:20171018T150117Z
LAST-MODIFIED:20260130T192453Z
UID:2148-1787788800-1788825599@blueflame.org
SUMMARY:Blue Flame Lodge Minnesota State Fair 2026
DESCRIPTION:Come see the Blue Flame Lodge at the Minnesota State Fair!\nAugust 27- September 7\, 2026 \nExhibitor Space Available: More Info Here \nVolunteer Sign Up: Click Here \nWatch the State Fair Video Here!
URL:https://blueflame.org/view-event/blue-flame-lodge-minnesota-state-fair-2-2-2/
LOCATION:Minnesota State Fair Grounds\, 1265 North Snelling Ave. N.\, St. Paul\, MN\, 55108-3099\, United States
ORGANIZER;CN="Blue Flame":MAILTO:ahenkel@blueflame.org
END:VEVENT
END:VCALENDAR