BEGIN:VCALENDAR
VERSION:2.0
PRODID:-//Minnesota Blue Flame Gas Association - ECPv6.13.2.1//NONSGML v1.0//EN
CALSCALE:GREGORIAN
METHOD:PUBLISH
X-WR-CALNAME:Minnesota Blue Flame Gas Association
X-ORIGINAL-URL:https://blueflame.org
X-WR-CALDESC:Events for Minnesota Blue Flame Gas Association
REFRESH-INTERVAL;VALUE=DURATION:PT1H
X-Robots-Tag:noindex
X-PUBLISHED-TTL:PT1H
BEGIN:VTIMEZONE
TZID:America/Chicago
BEGIN:DAYLIGHT
TZOFFSETFROM:-0600
TZOFFSETTO:-0500
TZNAME:CDT
DTSTART:20250309T080000
END:DAYLIGHT
BEGIN:STANDARD
TZOFFSETFROM:-0500
TZOFFSETTO:-0600
TZNAME:CST
DTSTART:20251102T070000
END:STANDARD
END:VTIMEZONE
BEGIN:VEVENT
DTSTART;TZID=America/Chicago:20251218T153000
DTEND;TZID=America/Chicago:20251218T170000
DTSTAMP:20260424T112513
CREATED:20190310T211819Z
LAST-MODIFIED:20251103T152828Z
UID:2246-1766071800-1766077200@blueflame.org
SUMMARY:2025 Holiday Happy Hour
DESCRIPTION:2025 Holiday Happy Hour\nJoin Us for free appetizers and a complimentary beverage\nRegister Here!\nTwin Cities 400 Tavern\n1330 Industrial Blvd NE\, Minneapolis\nDecember 18\, 2025\n3:30 – 5:00 pm
URL:https://blueflame.org/view-event/2025-holiday-happy-hour/
LOCATION:Twin Cities 400 Tavern\, 1330 Industrial Blvd NE\, Miinneapolis\, MN\, 55413
ORGANIZER;CN="Blue Flame":MAILTO:ahenkel@blueflame.org
END:VEVENT
END:VCALENDAR