BEGIN:VCALENDAR
VERSION:2.0
PRODID:-//Minnesota Blue Flame Gas Association - ECPv6.13.2.1//NONSGML v1.0//EN
CALSCALE:GREGORIAN
METHOD:PUBLISH
X-ORIGINAL-URL:https://blueflame.org
X-WR-CALDESC:Events for Minnesota Blue Flame Gas Association
REFRESH-INTERVAL;VALUE=DURATION:PT1H
X-Robots-Tag:noindex
X-PUBLISHED-TTL:PT1H
BEGIN:VTIMEZONE
TZID:America/Chicago
BEGIN:DAYLIGHT
TZOFFSETFROM:-0600
TZOFFSETTO:-0500
TZNAME:CDT
DTSTART:20250309T080000
END:DAYLIGHT
BEGIN:STANDARD
TZOFFSETFROM:-0500
TZOFFSETTO:-0600
TZNAME:CST
DTSTART:20251102T070000
END:STANDARD
END:VTIMEZONE
BEGIN:VEVENT
DTSTART;VALUE=DATE:20251110
DTEND;VALUE=DATE:20251206
DTSTAMP:20260425T082747
CREATED:20251110T193759Z
LAST-MODIFIED:20251110T193832Z
UID:2490-1762732800-1764979199@blueflame.org
SUMMARY:Blue Flame Board Ballot
DESCRIPTION:Please take a moment to vote for members of the Blue Flame Gas Association Board of Directors. \nVOTE HERE
URL:https://blueflame.org/view-event/blue-flame-board-ballot/
END:VEVENT
END:VCALENDAR